BEGIN:VCALENDAR
PRODID:-//hacksw/handcal//NONSGML v1.0//EN
VERSION:2.0
METHOD:PUBLISH
BEGIN:VEVENT
DTSTART:20090527T010000Z
LOCATION:
UID:383420090527T010000ZSocial Security Myths and Realities
DTSTAMP:20260425T113224Z
DESCRIPTION:\nBob Hartnett is Social Security\n
SUMMARY:Social Security Myths and Realities - Estate Planning Council of Pomona Valley, Inc. 
PRIORITY:3
BEGIN:VALARM
TRIGGER:PT18H
ACTION:DISPLAY
DESCRIPTION:Reminder
END:VALARM
END:VEVENT
END:VCALENDAR